BEGIN:VCALENDAR
VERSION:2.0
PRODID:-//MBC-Speyer - ECPv6.15.20//NONSGML v1.0//EN
CALSCALE:GREGORIAN
METHOD:PUBLISH
X-WR-CALNAME:MBC-Speyer
X-ORIGINAL-URL:https://mbc-speyer.de
X-WR-CALDESC:Veranstaltungen für MBC-Speyer
REFRESH-INTERVAL;VALUE=DURATION:PT1H
X-Robots-Tag:noindex
X-PUBLISHED-TTL:PT1H
BEGIN:VTIMEZONE
TZID:Europe/Berlin
BEGIN:DAYLIGHT
TZOFFSETFROM:+0100
TZOFFSETTO:+0200
TZNAME:CEST
DTSTART:20250330T010000
END:DAYLIGHT
BEGIN:STANDARD
TZOFFSETFROM:+0200
TZOFFSETTO:+0100
TZNAME:CET
DTSTART:20251026T010000
END:STANDARD
BEGIN:DAYLIGHT
TZOFFSETFROM:+0100
TZOFFSETTO:+0200
TZNAME:CEST
DTSTART:20260329T010000
END:DAYLIGHT
BEGIN:STANDARD
TZOFFSETFROM:+0200
TZOFFSETTO:+0100
TZNAME:CET
DTSTART:20261025T010000
END:STANDARD
BEGIN:DAYLIGHT
TZOFFSETFROM:+0100
TZOFFSETTO:+0200
TZNAME:CEST
DTSTART:20270328T010000
END:DAYLIGHT
BEGIN:STANDARD
TZOFFSETFROM:+0200
TZOFFSETTO:+0100
TZNAME:CET
DTSTART:20271031T010000
END:STANDARD
END:VTIMEZONE
BEGIN:VEVENT
DTSTART;VALUE=DATE:20260801
DTEND;VALUE=DATE:20260802
DTSTAMP:20260422T155157
CREATED:20251007T090923Z
LAST-MODIFIED:20251007T090954Z
UID:1934-1785542400-1785628799@mbc-speyer.de
SUMMARY:Sommernachtsfest 2026
DESCRIPTION:Sommernachtsfest am 01.08.2026 – 1. MBC Speyer e.V.\nWie jedes Jahr stellen wir auch 2026 wieder ein geselliges Sommernachtsfest auf die Beine – mit allem\, was unser Clubleben ausmacht: gemeinsames Ankommen\, viele bekannte Gesichter\, Lichterglanz am Hafen und beste Stimmung bis in den Abend. Die Gaudi-Rallye gehört natürlich dazu; das Motto wird noch nicht verraten\, aber so viel sei gesagt: Es wird wieder richtig viel Spaß machen und für knifflige\, lustige und überraschende Momente sorgen. Abends ist Party garantiert – mit guter Musik\, kühlen Getränken und Zeit für viele schöne Gespräche am Wasser. \nEin besonderer Programmpunkt ist die Hissung der blauen Fahne – ein sichtbares Zeichen für unser Engagement und unsere Gemeinschaft. Wir freuen uns darauf\, diesen Moment gemeinsam zu erleben und anschließend in einen fröhlichen Festabend zu starten. \nWeitere Informationen zu Beginn\, Ablauf und kleinen Überraschungen folgen rechtzeitig hier auf der Website\, als Email und per Aushang im Clubhaus. Wir freuen uns auf ein stimmungsvolles Sommernachtsfest mit euch – am 01.08.2026 beim 1. MBC Speyer e.V.
URL:https://mbc-speyer.de/event/sommernachtsfest-2026/
END:VEVENT
BEGIN:VEVENT
DTSTART;VALUE=DATE:20260822
DTEND;VALUE=DATE:20260823
DTSTAMP:20260422T155157
CREATED:20251007T091257Z
LAST-MODIFIED:20260210T190003Z
UID:1938-1787356800-1787443199@mbc-speyer.de
SUMMARY:White Night 2026
DESCRIPTION:White Night am 22.08.2026 – 1. MBC Speyer e.V.\nNach der legendären White Night 2025 fragen wir uns ehrlich\, wie wir dieses Fest noch toppen sollen – so viel gute Laune\, unsere beiden Top‑DJs\, dazu so viele Clubfreundinnen und Clubfreunde vom MBC und den Nachbarclubs\, die bis spät in die Nacht mit uns gefeiert haben. Aber natürlich versuchen wir es! Und darum gilt: Nicht verpassen – White Night am 22.08.2026 beim 1. MBC Speyer e.V. \nWir verwandeln das Vereinsgelände wieder in ein Meer aus Licht und guter Stimmung. In traditionellem Weiß\, mit kühlen Drinks und tanzbaren Beats feiern wir gemeinsam den Spätsommer\, treffen altbekannte Gesichter und heißen neue Gäste willkommen. Die Tanzfläche wartet\, die Musik steht bereit – und die Erinnerung an 2025 ist für uns Ansporn\, noch eine Schippe draufzulegen. \nAlle Details zu Einlass\, Beginn und kleinen Überraschungen folgen rechtzeitig. Sagt es weiter\, bringt eure Freundinnen und Freunde mit und kommt ganz in Weiß – wir freuen uns auf eine unvergessliche Nacht am Wasser.
URL:https://mbc-speyer.de/event/white-night-2026/
END:VEVENT
END:VCALENDAR