BEGIN:VCALENDAR
VERSION:2.0
PRODID:-//MBC-Speyer - ECPv6.15.20//NONSGML v1.0//EN
CALSCALE:GREGORIAN
METHOD:PUBLISH
X-ORIGINAL-URL:https://mbc-speyer.de
X-WR-CALDESC:Veranstaltungen für MBC-Speyer
REFRESH-INTERVAL;VALUE=DURATION:PT1H
X-Robots-Tag:noindex
X-PUBLISHED-TTL:PT1H
BEGIN:VTIMEZONE
TZID:Europe/Berlin
BEGIN:DAYLIGHT
TZOFFSETFROM:+0100
TZOFFSETTO:+0200
TZNAME:CEST
DTSTART:20250330T010000
END:DAYLIGHT
BEGIN:STANDARD
TZOFFSETFROM:+0200
TZOFFSETTO:+0100
TZNAME:CET
DTSTART:20251026T010000
END:STANDARD
BEGIN:DAYLIGHT
TZOFFSETFROM:+0100
TZOFFSETTO:+0200
TZNAME:CEST
DTSTART:20260329T010000
END:DAYLIGHT
BEGIN:STANDARD
TZOFFSETFROM:+0200
TZOFFSETTO:+0100
TZNAME:CET
DTSTART:20261025T010000
END:STANDARD
BEGIN:DAYLIGHT
TZOFFSETFROM:+0100
TZOFFSETTO:+0200
TZNAME:CEST
DTSTART:20270328T010000
END:DAYLIGHT
BEGIN:STANDARD
TZOFFSETFROM:+0200
TZOFFSETTO:+0100
TZNAME:CET
DTSTART:20271031T010000
END:STANDARD
END:VTIMEZONE
BEGIN:VEVENT
DTSTART;TZID=Europe/Berlin:20260501T103000
DTEND;TZID=Europe/Berlin:20260501T180000
DTSTAMP:20260422T110156
CREATED:20251007T090320Z
LAST-MODIFIED:20251007T090320Z
UID:1928-1777631400-1777658400@mbc-speyer.de
SUMMARY:Anfahren 2026
DESCRIPTION:Saisonstart am 1. Mai: Traditionelles Anfahren beim 1. MBC Speyer e.V.\nWie jedes Jahr feiern wir unseren Saisonstart am 1. Mai mit dem traditionellen Anfahren. Auch dieses Mal wollen wir gemeinsam zu einer Ausfahrt aufbrechen – seid gespannt\, wohin unsere Reise geht! Der Zielort bleibt eine kleine Überraschung; fest steht: Wir starten gemeinsam\, verbringen Zeit auf dem Wasser und eröffnen die Saison in bester Clubgesellschaft. \nTreffpunkt ist am Vereinsgelände; bitte plant ausreichend Vorbereitungszeit für Boote und Ausrüstung ein. Für die Koordination ist es hilfreich\, wenn ihr uns kurz mitteilt\, mit wie vielen Personen ihr kommt und ob ihr Plätze an Bord anbietet oder sucht. Details zu Abfahrtszeit\, Dauer und eventuellen Einkehrmöglichkeiten geben wir natürlich noch via Email bekannt. \nWir freuen uns auf einen fröhlichen\, sicheren und gut gelaunten Start in die neue Saison – mit viel Teamgeist\, Rückenwind und schönen Momenten auf dem Wasser.
URL:https://mbc-speyer.de/event/anfahren-2026/
END:VEVENT
BEGIN:VEVENT
DTSTART;VALUE=DATE:20260620
DTEND;VALUE=DATE:20260622
DTSTAMP:20260422T110156
CREATED:20251007T090528Z
LAST-MODIFIED:20251007T092138Z
UID:1931-1781913600-1782086399@mbc-speyer.de
SUMMARY:Stern vom Oberrhein 2026
DESCRIPTION:Stern vom Oberrhein am 20.06.2026 – 1. MBC Speyer e.V.\nWir möchten auch in diesem Jahr wieder mit zahlreichen Booten am Stern vom Oberrhein teilnehmen und rufen euch – unsere Clubkameradinnen und Clubkameraden – schon jetzt dazu auf\, euch den 20.06.2026 fest im Kalender zu markieren. Schön wäre es\, wenn wir als 1. MBC Speyer e.V. erneut so stark vertreten sind wie in dem vergangenen Jahr und gemeinsam ein sichtbares Zeichen unserer Clubgemeinschaft auf dem Wasser setzen. \nGeplant ist die Teilnahme als geschlossene Gruppe unter MBC-Flagge. Weitere Details zu Treffpunkt\, Strecke\, Abfahrtszeit und eventuellen Einkehrmöglichkeiten geben wir rechtzeitig bekannt. Für die Koordination bitten wir vorab um eine kurze Rückmeldung\, wer mit eigenem Boot dabei ist\, freie Plätze anbietet oder einen Platz sucht. \nWir freuen uns auf eine eindrucksvolle Gemeinschaftsausfahrt und einen unvergesslichen Tag auf dem Oberrhein – mit viel Teamgeist und maritimer Stimmung.
URL:https://mbc-speyer.de/event/stern-vom-oberrhein-2/
END:VEVENT
BEGIN:VEVENT
DTSTART;VALUE=DATE:20260801
DTEND;VALUE=DATE:20260802
DTSTAMP:20260422T110156
CREATED:20251007T090923Z
LAST-MODIFIED:20251007T090954Z
UID:1934-1785542400-1785628799@mbc-speyer.de
SUMMARY:Sommernachtsfest 2026
DESCRIPTION:Sommernachtsfest am 01.08.2026 – 1. MBC Speyer e.V.\nWie jedes Jahr stellen wir auch 2026 wieder ein geselliges Sommernachtsfest auf die Beine – mit allem\, was unser Clubleben ausmacht: gemeinsames Ankommen\, viele bekannte Gesichter\, Lichterglanz am Hafen und beste Stimmung bis in den Abend. Die Gaudi-Rallye gehört natürlich dazu; das Motto wird noch nicht verraten\, aber so viel sei gesagt: Es wird wieder richtig viel Spaß machen und für knifflige\, lustige und überraschende Momente sorgen. Abends ist Party garantiert – mit guter Musik\, kühlen Getränken und Zeit für viele schöne Gespräche am Wasser. \nEin besonderer Programmpunkt ist die Hissung der blauen Fahne – ein sichtbares Zeichen für unser Engagement und unsere Gemeinschaft. Wir freuen uns darauf\, diesen Moment gemeinsam zu erleben und anschließend in einen fröhlichen Festabend zu starten. \nWeitere Informationen zu Beginn\, Ablauf und kleinen Überraschungen folgen rechtzeitig hier auf der Website\, als Email und per Aushang im Clubhaus. Wir freuen uns auf ein stimmungsvolles Sommernachtsfest mit euch – am 01.08.2026 beim 1. MBC Speyer e.V.
URL:https://mbc-speyer.de/event/sommernachtsfest-2026/
END:VEVENT
BEGIN:VEVENT
DTSTART;VALUE=DATE:20260822
DTEND;VALUE=DATE:20260823
DTSTAMP:20260422T110156
CREATED:20251007T091257Z
LAST-MODIFIED:20260210T190003Z
UID:1938-1787356800-1787443199@mbc-speyer.de
SUMMARY:White Night 2026
DESCRIPTION:White Night am 22.08.2026 – 1. MBC Speyer e.V.\nNach der legendären White Night 2025 fragen wir uns ehrlich\, wie wir dieses Fest noch toppen sollen – so viel gute Laune\, unsere beiden Top‑DJs\, dazu so viele Clubfreundinnen und Clubfreunde vom MBC und den Nachbarclubs\, die bis spät in die Nacht mit uns gefeiert haben. Aber natürlich versuchen wir es! Und darum gilt: Nicht verpassen – White Night am 22.08.2026 beim 1. MBC Speyer e.V. \nWir verwandeln das Vereinsgelände wieder in ein Meer aus Licht und guter Stimmung. In traditionellem Weiß\, mit kühlen Drinks und tanzbaren Beats feiern wir gemeinsam den Spätsommer\, treffen altbekannte Gesichter und heißen neue Gäste willkommen. Die Tanzfläche wartet\, die Musik steht bereit – und die Erinnerung an 2025 ist für uns Ansporn\, noch eine Schippe draufzulegen. \nAlle Details zu Einlass\, Beginn und kleinen Überraschungen folgen rechtzeitig. Sagt es weiter\, bringt eure Freundinnen und Freunde mit und kommt ganz in Weiß – wir freuen uns auf eine unvergessliche Nacht am Wasser.
URL:https://mbc-speyer.de/event/white-night-2026/
END:VEVENT
BEGIN:VEVENT
DTSTART;VALUE=DATE:20260919
DTEND;VALUE=DATE:20260921
DTSTAMP:20260422T110156
CREATED:20251007T091505Z
LAST-MODIFIED:20251007T091505Z
UID:1941-1789776000-1789948799@mbc-speyer.de
SUMMARY:Clubausfahrt 2026
DESCRIPTION:Clubausfahrt am 19.09.2026 – Save the Date für Mitglieder & Gastlieger\nNach dem tollen Erfolg in diesem Jahr möchten wir auch 2026 wieder eine Clubausfahrt für unsere Mitglieder und Gastlieger organisieren. Wohin es geht? Das bleibt noch offen – Ideen haben wir viele\, und wir sondieren aktuell die schönsten Ziele. Fest steht: Am 19.09.2026 sind wir gemeinsam auf dem Wasser unterwegs und freuen uns auf zahlreiche Teilnahme. \nWir halten euch hier auf der Website und im Aushang im Clubhaus über Route\, Treffpunkt und Abfahrtszeit auf dem Laufenden. Wer schon jetzt weiß\, dass er oder sie dabei sein möchte\, darf uns gerne unverbindlich Bescheid geben – das erleichtert die Planung. Bis dahin: Termin vormerken\, Crew zusammentrommeln und Vorfreude genießen!
URL:https://mbc-speyer.de/event/clubausfahrt-2026/
END:VEVENT
BEGIN:VEVENT
DTSTART;TZID=Europe/Berlin:20261010T140000
DTEND;TZID=Europe/Berlin:20261010T180000
DTSTAMP:20260422T110156
CREATED:20251007T091743Z
LAST-MODIFIED:20251007T091743Z
UID:1944-1791640800-1791655200@mbc-speyer.de
SUMMARY:Abfahren 2026
DESCRIPTION:Abfahren am 10.10.2026 – Saisonabschluss beim 1. MBC Speyer e.V.\nAuch die schönste Saison geht einmal zu Ende: Unser traditionelles Abfahren findet am 10.10.2026 ab 14:00 Uhr auf dem Vereinsgelände statt. Wir verabschieden die Saison gemeinsam – mit Musik\, gutem Essen und vielen schönen Gesprächen am Wasser. \nNach der Saison ist bekanntlich vor der Saison: Lasst also den Kopf nicht hängen\, sondern nutzt auch unsere Wintertermine. Gemeinsam blicken wir bereits jetzt voller Vorfreude auf das\, was kommt. \nWir freuen uns auf einen stimmungsvollen Saisonabschluss mit euch.
URL:https://mbc-speyer.de/event/abfahren-2026/
END:VEVENT
BEGIN:VEVENT
DTSTART;TZID=Europe/Berlin:20261212T150000
DTEND;TZID=Europe/Berlin:20261212T220000
DTSTAMP:20260422T110156
CREATED:20251007T092046Z
LAST-MODIFIED:20251007T092046Z
UID:1947-1797087600-1797112800@mbc-speyer.de
SUMMARY:Wintergrillen mit Nikolaus 2026
DESCRIPTION:Wintergrillen mit Nikolaus am 12.12.2026 – 1. MBC Speyer e.V.\nZum stimmungsvollen Jahresausklang laden wir am 12.12.2026 ab 15:00 Uhr zum Wintergrillen mit Nikolaus ein. In gemütlicher Runde\, mit Lagerfeuerstimmung\, duftendem Grillgut und dampfendem Glühwein genießen wir einen entspannten Adventsnachmittag auf dem Vereinsgelände. Und natürlich stellt sich wie jedes Jahr die entscheidende Frage: Wer verbirgt sich wohl unter dem Nikolauskostüm? \nOb roter oder weißer Glühwein am besten schmeckt\, klären wir vor Ort – probieren ausdrücklich erlaubt. Erzählt uns\, was ihr über den Winter so vorhabt\, tauscht Tipps aus und plaudert über die „wichtigsten“ Themen der kalten Jahreszeit. Wir freuen uns auf einen fröhlichen\, geselligen Nachmittag mit euch und auf viele leuchtende Kinderaugen\, wenn der Nikolaus vorbeischaut.
URL:https://mbc-speyer.de/event/wintergrillen-mit-nikolaus-2026/
END:VEVENT
END:VCALENDAR