BEGIN:VCALENDAR
VERSION:2.0
PRODID:-//MBC-Speyer - ECPv6.15.20//NONSGML v1.0//EN
CALSCALE:GREGORIAN
METHOD:PUBLISH
X-WR-CALNAME:MBC-Speyer
X-ORIGINAL-URL:https://mbc-speyer.de
X-WR-CALDESC:Veranstaltungen für MBC-Speyer
REFRESH-INTERVAL;VALUE=DURATION:PT1H
X-Robots-Tag:noindex
X-PUBLISHED-TTL:PT1H
BEGIN:VTIMEZONE
TZID:Europe/Berlin
BEGIN:DAYLIGHT
TZOFFSETFROM:+0100
TZOFFSETTO:+0200
TZNAME:CEST
DTSTART:20210328T010000
END:DAYLIGHT
BEGIN:STANDARD
TZOFFSETFROM:+0200
TZOFFSETTO:+0100
TZNAME:CET
DTSTART:20211031T010000
END:STANDARD
BEGIN:DAYLIGHT
TZOFFSETFROM:+0100
TZOFFSETTO:+0200
TZNAME:CEST
DTSTART:20220327T010000
END:DAYLIGHT
BEGIN:STANDARD
TZOFFSETFROM:+0200
TZOFFSETTO:+0100
TZNAME:CET
DTSTART:20221030T010000
END:STANDARD
BEGIN:DAYLIGHT
TZOFFSETFROM:+0100
TZOFFSETTO:+0200
TZNAME:CEST
DTSTART:20230326T010000
END:DAYLIGHT
BEGIN:STANDARD
TZOFFSETFROM:+0200
TZOFFSETTO:+0100
TZNAME:CET
DTSTART:20231029T010000
END:STANDARD
BEGIN:DAYLIGHT
TZOFFSETFROM:+0100
TZOFFSETTO:+0200
TZNAME:CEST
DTSTART:20240331T010000
END:DAYLIGHT
BEGIN:STANDARD
TZOFFSETFROM:+0200
TZOFFSETTO:+0100
TZNAME:CET
DTSTART:20241027T010000
END:STANDARD
BEGIN:DAYLIGHT
TZOFFSETFROM:+0100
TZOFFSETTO:+0200
TZNAME:CEST
DTSTART:20250330T010000
END:DAYLIGHT
BEGIN:STANDARD
TZOFFSETFROM:+0200
TZOFFSETTO:+0100
TZNAME:CET
DTSTART:20251026T010000
END:STANDARD
BEGIN:DAYLIGHT
TZOFFSETFROM:+0100
TZOFFSETTO:+0200
TZNAME:CEST
DTSTART:20260329T010000
END:DAYLIGHT
BEGIN:STANDARD
TZOFFSETFROM:+0200
TZOFFSETTO:+0100
TZNAME:CET
DTSTART:20261025T010000
END:STANDARD
BEGIN:DAYLIGHT
TZOFFSETFROM:+0100
TZOFFSETTO:+0200
TZNAME:CEST
DTSTART:20270328T010000
END:DAYLIGHT
BEGIN:STANDARD
TZOFFSETFROM:+0200
TZOFFSETTO:+0100
TZNAME:CET
DTSTART:20271031T010000
END:STANDARD
END:VTIMEZONE
BEGIN:VEVENT
DTSTART;TZID=Europe/Berlin:20260313T193000
DTEND;TZID=Europe/Berlin:20260313T220000
DTSTAMP:20260422T123945
CREATED:20251007T090045Z
LAST-MODIFIED:20251007T092236Z
UID:1925-1773430200-1773439200@mbc-speyer.de
SUMMARY:Mitgliederversammlung 2026
DESCRIPTION:Mitgliederversammlung mit Neuwahlen – 1. MBC Speyer e.V.\nDer 1. MBC Speyer e.V. lädt alle Mitglieder herzlich zur diesjährigen Mitgliederversammlung mit Neuwahlen ein. Die Versammlung findet am 13.03.2026 um 19:30 Uhr statt. Ort wird noch bekannt gegeben. Wir freuen uns auf eine rege Teilnahme\, damit wir die Weichen für das kommende Vereinsjahr gemeinsam stellen können. \nBitte reicht eure Wünsche und Anträge zur Tagesordnung rechtzeitig ein. \nDie Einladung erhalten alle Mitglieder selbstverständlich noch per Email. Wir danken euch schon jetzt für eure Mitwirkung und freuen uns auf einen konstruktiven Abend im Sinne unseres Vereins.
URL:https://mbc-speyer.de/event/mitgliederversammlung-2026/
END:VEVENT
BEGIN:VEVENT
DTSTART;VALUE=DATE:20251213
DTEND;VALUE=DATE:20251214
DTSTAMP:20260422T123945
CREATED:20241016T140537Z
LAST-MODIFIED:20241103T114546Z
UID:1483-1765584000-1765670399@mbc-speyer.de
SUMMARY:Wintergrillen & Nikolaus im 1. MBC Speyer
DESCRIPTION:🎅 Einladung zur Nikolausfeier 2025 mit anschließendem Wintergrillen im 1. MBC Speyer e.V. 🎅 \nEs weihnachtet sehr in der Rheinschnook\, und wir laden euch herzlich ein\, am 13.12.2025 eine ganz besondere Nikolausfeier mit uns zu erleben! Natürlich kommt der echte Nikolaus persönlich vorbei und sorgt für weihnachtliche Stimmung.  Und auch unser Wintergrillen wird traditionell mit Lagerefeuer wieder stattfinden.🎄 \nFreut euch auf festliche Musik\, leckeres Weihnachtsgebäck\, Kaffee und Kuchen sowie ein gemütliches Abendessen. Die festliche Atmosphäre in der Rheinschnook macht diese Feier zu einem ganz besonderen Erlebnis! ✨ \nFür die Kinder gibt es wie immer eine Überraschung – und besonders kleine Vorträge werden vom Nikolaus belohnt! 🎁 \n📅 Datum: 13.12.2025\n📍 Ort: Rheinschnook\, 1. MBC Speyer \nLasst euch die weihnachtliche Stimmung bei uns nicht entgehen. Wir freuen uns auf euch und eine zauberhafte Feier! \n#Nikolaus2025 #MBCSpeyer #Weihnachtsstimmung #KinderÜberraschung #GemeinsamFeiern
URL:https://mbc-speyer.de/event/nikolaus-im-1-mbc-speyer/
END:VEVENT
BEGIN:VEVENT
DTSTART;VALUE=DATE:20251011
DTEND;VALUE=DATE:20251012
DTSTAMP:20260422T123945
CREATED:20241016T140450Z
LAST-MODIFIED:20241016T142953Z
UID:1480-1760140800-1760227199@mbc-speyer.de
SUMMARY:Traditionelles Abfahren
DESCRIPTION:🚤 Einladung zum Abfahren 2025 im 1. MBC Speyer e.V. 🚤 \nSaisonende? Eigentlich eine traurige Angelegenheit – aber nicht bei uns! 🎉 Wir laden alle Mitglieder und Gäste herzlich ein\, das Ende der Saison gebührend zu feiern\, als wäre es der Startschuss für die nächste. Denn: Nach der Saison ist vor der Saison! \nFreut euch auf gute Laune\, leckeres Essen und fantastische Musik – all das ist garantiert! 🎶🍽️\nUnd dieses Jahr wollen wir das gigantische Abfahren vom letzten Jahr sogar toppen! Zusammen schaffen wir das! \n📅 Datum: 11.10.2025\n📍 Ort: 1. MBC Speyer \nKommt vorbei und feiert mit uns – denn auch das Saisonende kann eine Party sein\, die keiner so schnell vergisst! \n#Abfahren2024 #MBCSpeyer #SaisonendeFeiern #GuteLaune #GemeinsamToppen
URL:https://mbc-speyer.de/event/traditionelles-abfahren/
END:VEVENT
BEGIN:VEVENT
DTSTART;VALUE=DATE:20250927
DTEND;VALUE=DATE:20250928
DTSTAMP:20260422T123945
CREATED:20241016T140359Z
LAST-MODIFIED:20241016T142625Z
UID:1477-1758931200-1759017599@mbc-speyer.de
SUMMARY:Oktoberfest im 1. MBC Speyer
DESCRIPTION:🎉 Einladung zum Oktoberfest im 1. MBC Speyer! 🎉 \nO’zapft is! 🍻 Wir laden euch herzlich ein zu unserem Oktoberfest\, das auch im Jahr 2025 wieder eine riesige Gaudi verspricht – und das mitten in der Pfalz! \n📅 Datum: 27.09.2025\n📍 Ort: 1. MBC Speyer \nLederhosen und Dirndl sind Pflicht\, denn wir feiern zünftig in bayrischem Stil! Es erwartet euch eine Feier mit allem\, was dazugehört: leckere bayrische Schmankerl\, kühles Bier und jede Menge Spaß. 🍺🥨
URL:https://mbc-speyer.de/event/oktoberfest-im-1-mbc-speyer/
END:VEVENT
BEGIN:VEVENT
DTSTART;VALUE=DATE:20250906
DTEND;VALUE=DATE:20250907
DTSTAMP:20260422T123945
CREATED:20241016T140259Z
LAST-MODIFIED:20241016T140259Z
UID:1474-1757116800-1757203199@mbc-speyer.de
SUMMARY:Clubausfahrt zum MCP
DESCRIPTION:
URL:https://mbc-speyer.de/event/clubausfahrt-zum-mcp/
END:VEVENT
BEGIN:VEVENT
DTSTART;VALUE=DATE:20250823
DTEND;VALUE=DATE:20250824
DTSTAMP:20260422T123945
CREATED:20241016T140213Z
LAST-MODIFIED:20241016T140213Z
UID:1471-1755907200-1755993599@mbc-speyer.de
SUMMARY:Legendäre White Night
DESCRIPTION:
URL:https://mbc-speyer.de/event/legendaere-white-night/
END:VEVENT
BEGIN:VEVENT
DTSTART;VALUE=DATE:20250628
DTEND;VALUE=DATE:20250629
DTSTAMP:20260422T123945
CREATED:20241016T140103Z
LAST-MODIFIED:20241016T141630Z
UID:1468-1751068800-1751155199@mbc-speyer.de
SUMMARY:Sommernachtsfest des 1. MBC Speyer mit Gaudi-Ralley
DESCRIPTION:🎉 Einladung zum Sommernachtsfest des 1. MBC Speyer! 🎉 \nLiebe Mitglieder\, Freunde und Gäste\, \nauch dieses Jahr laden wir euch herzlich zu unserem Sommernachtsfest ein! Am 28.06.2025 erwartet euch wieder eine unvergessliche Feier voller Spaß\, Musik und guter Laune. \nEin Highlight wird unsere legendäre Gaudi-Rallye\, bei der der Spaß garantiert ist! Das Motto bleibt noch eine Überraschung\, aber eins ist sicher: Es wird lustig und feuchtfröhlich. 🍻 \nNatürlich gibt es auch leckeres Essen\, tolle Musik und Tanz bis in die Nacht. 💃🕺 Gäste sind herzlich willkommen – also bringt Freunde und Familie mit! \n📅 Termin: 28.06.2025\n📍 Ort: 1. MBC Speyer im Reffenthal am Oberrhein \nMarkiert euch den Termin und freut euch auf ein ausgelassenes Sommerfest mit dem 1. MBC Speyer! \nWir freuen uns auf euch! 🌟 \n#Sommernachtsfest #MBCSpeyer #GaudiRallye #TanzUndSpaß #FeuchtFröhlich
URL:https://mbc-speyer.de/event/sommernachtsfest-des-1-mbc-speyer-mit-gaudi-ralley/
END:VEVENT
BEGIN:VEVENT
DTSTART;VALUE=DATE:20250614
DTEND;VALUE=DATE:20250615
DTSTAMP:20260422T123945
CREATED:20241117T102600Z
LAST-MODIFIED:20241117T102649Z
UID:1680-1749859200-1749945599@mbc-speyer.de
SUMMARY:Stern vom Oberrhein
DESCRIPTION:Über 60 Boote aus verschiedenen Vereinen haben bei der Sternfahrt am 14.09.2024 in den Lauterbourger Hafen teilgenommen. Alle Teilnehmer waren trotz trübem Wetter begeistert und das spornt uns alle an\, den „Stern vom Oberrhein“ in 2025 zu wiederholen. Geplant ist Samstag\, der 14.06.2025 im Lauterbourger Hafen und wir hoffen\, dass noch mehr Boote teilnehmen. Bitte merkt euch den 14.06.2025 im Kalender schon mal vor!
URL:https://mbc-speyer.de/event/stern-vom-oberrhein/
END:VEVENT
BEGIN:VEVENT
DTSTART;TZID=Europe/Berlin:20250607T103000
DTEND;TZID=Europe/Berlin:20250607T150000
DTSTAMP:20260422T123945
CREATED:20250507T152035Z
LAST-MODIFIED:20250507T152035Z
UID:1762-1749292200-1749308400@mbc-speyer.de
SUMMARY:Wasserski Event
DESCRIPTION:Ob Wasserski\, Kneeboards oder Aqua Fun Park – alles ist dabei! Ein Einführungskurs sowie Schwimmwesten sind im Preis enthalten. Wakeboards und andere Sportgeräte für Fortgeschrittene können gegen Gebühr ausgeliehen werden. Auch für das leibliche Wohl ist vor Ort gesorgt. \nEgal\, ob Ihr selbst aktiv werdet oder einfach einen schönen Tag in geselliger Runde auf der Plattform verbringen möchtet – wir freuen uns über alle\, die dabei sind! \nAnmeldung und weitere Infos erhaltet Ihr direkt bei Ramona Christ.
URL:https://mbc-speyer.de/event/wasserski-event/
ATTACH;FMTTYPE=image/png:https://mbc-speyer.de/wp-content/uploads/2025/05/Bildschirmfoto-2025-05-07-um-17.20.11.png
END:VEVENT
BEGIN:VEVENT
DTSTART;VALUE=DATE:20250501
DTEND;VALUE=DATE:20250502
DTSTAMP:20260422T123945
CREATED:20241016T135916Z
LAST-MODIFIED:20241016T155248Z
UID:1465-1746057600-1746143999@mbc-speyer.de
SUMMARY:Traditionelles Anfahren am 1. Mai
DESCRIPTION:🚤 Einladung zum Anfahren – Saisonstart am 1. Mai 2025 🚤 \nLiebe Mitglieder und Freunde des 1. MBC Speyer\, \nnach dem langen Winter ist es endlich wieder soweit! Wir starten gemeinsam in die neue Saison und laden euch herzlich zum traditionellen Anfahren am 1. Mai 2025 ein. \nFreut euch auf eine gemeinsame Fahrt und ein leckeres Essen im Anschluss. Genauere Details folgen\, aber markiert euch den Termin schon jetzt im Kalender! 🎉 \nWir wünschen jedem Bootsfahrer für die kommende Saison immer eine Handbreit Wasser unter dem Kiel. 🌊 \nLasst uns gemeinsam die Saison gebührend eröffnen – wir freuen uns auf euch! \nEuer 1. MBC Speyer e.V. 🚤🎶 \n#Anfahren2025 #MBCSpeyer #Saisonstart #HandbreitWasser #GemeinsamAufDemWasser
URL:https://mbc-speyer.de/event/traditionelles-anfahren/
END:VEVENT
BEGIN:VEVENT
DTSTART;VALUE=DATE:20250307
DTEND;VALUE=DATE:20250308
DTSTAMP:20260422T123945
CREATED:20241016T135724Z
LAST-MODIFIED:20241016T141020Z
UID:1461-1741305600-1741391999@mbc-speyer.de
SUMMARY:Hauptversammlung aller Mitglieder des 1. MBC Speyer
DESCRIPTION:📢 Einladung zur Hauptversammlung des 1. MBC Speyer e.V. 📢 \nLiebe Mitglieder\, \nwir laden euch herzlich zu unserer Hauptversammlung in 2025 ein. Wie immer gibt es viele wichtige Themen zu besprechen\, und unser Vorstand wird euch über Änderungen und Neuerungen für die kommende Saison informieren. \n🗓 Termin: 07.03.2025\n⏰ Uhrzeit: wird noch bekannt gegeben\n📍 Ort: wird noch bekannt gegeben \nEure Teilnahme ist von großer Bedeutung\, da wir gemeinsam über die Zukunft unseres Vereins und der kommenden Saison entscheiden. Nutzt die Gelegenheit\, euch aktiv einzubringen und mit anderen Mitgliedern auszutauschen. \nWir freuen uns auf eine rege Beteiligung und spannende Diskussionen! \nMit besten Grüßen\,\nEuer Vorstand des 1. MBC Speyer e.V. 🚤 \n#MBCSpeyer #Hauptversammlung #GemeinsamStark
URL:https://mbc-speyer.de/event/hauptversammlung-aller-mitglieder-des-1-mbc-speyer/
END:VEVENT
BEGIN:VEVENT
DTSTART;TZID=Europe/Berlin:20250201T180000
DTEND;TZID=Europe/Berlin:20250201T220000
DTSTAMP:20260422T123945
CREATED:20241016T135634Z
LAST-MODIFIED:20241016T135634Z
UID:1458-1738432800-1738447200@mbc-speyer.de
SUMMARY:Stammtisch mit den Clubs und Vereinen im Reffenthal
DESCRIPTION:📢 Einladung zum Stammtisch: Gemeinsam für die Zukunft des Reffenthals! 📢 \nDer 1. MBC Speyer lädt alle Clubs und Vereine des Reffenthals herzlich ein\, an einem gemeinsamen Stammtisch teilzunehmen\, um über die Zukunft unseres wunderschönen Naturschutzgebiets zu sprechen. 🌿 \n🗓 Termin: 1. Februar 2025\n⏰ Uhrzeit: Wird noch bekannt gegeben\n📍 Ort: Rheinschnook im 1. MBC Speyer \nEs geht um die Frage: Wie können wir die Natur des Reffenthals weiterhin effektiv schützen und gleichzeitig die Freizeitmöglichkeiten für unsere Vereinsmitglieder so angenehm wie möglich gestalten? \nLasst uns gemeinsam Ideen austauschen und Lösungen finden\, die allen zugutekommen – der Natur und uns allen\, die das Reffenthal so sehr lieben. \nWir freuen uns auf eure Teilnahme und den Austausch! \nEuer 1. MBC Speyer e.V. 🌿🚤
URL:https://mbc-speyer.de/event/stammtisch-mit-den-clubs-und-vereinen-im-reffenthal/
END:VEVENT
BEGIN:VEVENT
DTSTART;TZID=Europe/Berlin:20241207T150000
DTEND;TZID=Europe/Berlin:20241207T223000
DTSTAMP:20260422T123945
CREATED:20231117T223613Z
LAST-MODIFIED:20241103T114331Z
UID:1144-1733583600-1733610600@mbc-speyer.de
SUMMARY:Wintergrillen & Nikolaus
DESCRIPTION:🎅 Einladung zum Wintergrillen mit Nikolausfeier 2024 im 1. MBC Speyer e.V.  🎅 \nDie Weihnachtszeit steht vor der Tür\, und wir laden euch herzlich ein\, am 07.12.2024 unsere stimmungsvolle Nikolausfeier mit anschließendem Wintergrillen in und vor der Rheinschnook zu genießen! Wie immer kommt der echte Nikolaus höchstpersönlich vorbei und bringt festliche Magie mit. 🎄 \nFreut euch auf gemütliche Weihnachtsmusik\, feines Weihnachtsgebäck\, Kaffee und Kuchen sowie ein leckeres Wintergrillen mit Lagerfeuer. Die festliche Atmosphäre in der Rheinschnook macht dieses Ereignis zu einem ganz besonderen Erlebnis\, das ihr euch nicht entgehen lassen solltet! ✨ \nFür die Kinder gibt es natürlich wieder eine Überraschung – und kleine Vorträge werden besonders vom Nikolaus belohnt! 🎁 \n📅 Datum: 07.12.2024\n📍 Ort: Rheinschnook\, 1. MBC Speyer \nKommt vorbei und lasst uns gemeinsam die weihnachtliche Stimmung genießen. Wir freuen uns auf euch! \n#Nikolaus2024 #MBCSpeyer #Weihnachtsstimmung #KinderÜberraschung #GemeinsamFeiern #Wintergrillen
URL:https://mbc-speyer.de/event/nikolaus-4/
END:VEVENT
BEGIN:VEVENT
DTSTART;TZID=Europe/Berlin:20241123T173000
DTEND;TZID=Europe/Berlin:20241123T233000
DTSTAMP:20260422T123945
CREATED:20241016T152534Z
LAST-MODIFIED:20241016T154554Z
UID:1507-1732383000-1732404600@mbc-speyer.de
SUMMARY:Gansessen in der Rheinschnook
DESCRIPTION:🍽️ Einladung zum Gänseessen in der Rheinschnook 🍽️ \nLiebe Mitglieder und Freunde\, \nam Samstag\, den 23.11.2024 ab 17:30 Uhr lädt unser Wirt herzlich zum Gänseessen in der Rheinschnook ein. Freut euch auf ein festliches Menü\, das euch kulinarisch verwöhnen wird: \nVorspeise:\nMaronencreme-Suppe – 6\,90 € \nHauptgang:\nGänsekeule mit Rotkraut\, hausgemachter Soße und Knödel – 24\,90 € \nDessert:\nHausgemachte Cappuccino Panna Cotta – 4\,90 € \nFür verbindliche Anmeldungen wendet euch bitte direkt an unseren Wirt unter der Telefonnummer 0176/42276709. Achtung: Es gibt nur noch wenige Plätze! \nSichert euch euren Platz und genießt einen gemütlichen Abend mit köstlichem Essen. Wir freuen uns auf euch! \n#Gänseessen2024 #MBCSpeyer #FestlichesEssen #Genießen
URL:https://mbc-speyer.de/event/gansessen-in-der-rheinschnook/
END:VEVENT
BEGIN:VEVENT
DTSTART;VALUE=DATE:20241017
DTEND;VALUE=DATE:20241202
DTSTAMP:20260422T123945
CREATED:20241016T152658Z
LAST-MODIFIED:20241017T071318Z
UID:1510-1729123200-1733097599@mbc-speyer.de
SUMMARY:1. MBC Schlachtfest: Termin wird noch bekannt gegeben!
DESCRIPTION:DER TERMIN WIRD NOCH BEKANNT GEGEBEN! \nLiebe Mitglieder und Freunde des 1. MBC Speyer\, \nwir laden euch herzlich zu unserem traditionellen Schlachtfest ein! Es erwartet euch ein Tag voller guter Laune\, leckerem Essen und geselligem Beisammensein. Natürlich gibt es Fleisch vom Feinsten – ein Fest für alle Genießer! 🍽️ \nFür das Bier ist natürlich auch bestens gesorgt. 🍻 Ein großer Dank geht schon jetzt an alle Spender und fleißigen Helfer\, die diese Veranstaltung möglich machen! \nKommt zahlreich vorbei und verbringt mit uns einen wunderbaren Tag – ob als Clubmitglied oder Gast\, jeder ist herzlich willkommen! \n📅 Datum: Wird noch bekannt gegeben\n📍 Ort: 1. MBC Speyer – Rheinschnook \nWir freuen uns auf euch und auf eine schöne Veranstaltung! \n#Schlachtfest2024 #MBCSpeyer #LeckeresEssen #GuteLaune #BierUndFleisch
URL:https://mbc-speyer.de/event/schlachtfest/
END:VEVENT
BEGIN:VEVENT
DTSTART;TZID=Europe/Berlin:20241012T140000
DTEND;TZID=Europe/Berlin:20241012T200000
DTSTAMP:20260422T123945
CREATED:20231117T223539Z
LAST-MODIFIED:20231117T223539Z
UID:1141-1728741600-1728763200@mbc-speyer.de
SUMMARY:Abfahren
DESCRIPTION:
URL:https://mbc-speyer.de/event/abfahren-4/
END:VEVENT
BEGIN:VEVENT
DTSTART;VALUE=DATE:20240831
DTEND;VALUE=DATE:20240901
DTSTAMP:20260422T123945
CREATED:20231117T223440Z
LAST-MODIFIED:20241016T142439Z
UID:1138-1725062400-1725148799@mbc-speyer.de
SUMMARY:White Night
DESCRIPTION:✨ Einladung zur White Night 2025 im 1. MBC Speyer e.V. ✨ \nEs ist wieder soweit! Unsere legendäre White Night steht vor der Tür\, und wir laden euch herzlich ein\, auch 2025 gemeinsam mit uns eine unvergessliche Nacht zu erleben! 🤍 \nAm 23.08.2025 wird das Reffenthal wieder in Weiß erstrahlen – laut\, voller Energie und mit den besten Beats. DJ Lümmel und DJ Mike Light bringen die Tanzfläche garantiert zum Beben\, und es wird bis spät in die Nacht gefeiert! 🎶💃🕺 \nFür kulinarische Highlights ist natürlich auch gesorgt – leckeres Essen\, das keine Wünsche offen lässt! 🍽️ \nSeid dabei\, ob jung oder alt\, und erlebt die einzigartige Atmosphäre der White Night. Bringt Freunde\, Familie und vor allem gute Laune mit – wir freuen uns auf euch! \n📅 Datum: 23.08.2025\n📍 Ort: Reffenthal\, 1. MBC Speyer e.V. \nLasst uns zusammen eine Nacht feiern\, die wir nicht so schnell vergessen werden. Denn eins ist sicher: Nach der Party ist vor der Party! 🎉 \n#WhiteNight2025 #MBCSpeyer #LegendaryNight #DJLümmel #TanzUndSpaß
URL:https://mbc-speyer.de/event/white-night-4/
END:VEVENT
BEGIN:VEVENT
DTSTART;VALUE=DATE:20240706
DTEND;VALUE=DATE:20240708
DTSTAMP:20260422T123945
CREATED:20231117T223405Z
LAST-MODIFIED:20231117T223405Z
UID:1135-1720224000-1720396799@mbc-speyer.de
SUMMARY:Sommernachtsfest/Blaue Flagge
DESCRIPTION:
URL:https://mbc-speyer.de/event/sommernachtsfest-blaue-flagge/
END:VEVENT
BEGIN:VEVENT
DTSTART;TZID=Europe/Berlin:20240608T100000
DTEND;TZID=Europe/Berlin:20240608T120000
DTSTAMP:20260422T123945
CREATED:20240412T134924Z
LAST-MODIFIED:20240412T134924Z
UID:1263-1717840800-1717848000@mbc-speyer.de
SUMMARY:SKC – Jubiläums-Empfang
DESCRIPTION:
URL:https://mbc-speyer.de/event/skc-jubilaeums-empfang/
LOCATION:Bootshaus des SKC Philippsburg e. V.
END:VEVENT
BEGIN:VEVENT
DTSTART;TZID=Europe/Berlin:20240501T103000
DTEND;TZID=Europe/Berlin:20240501T220000
DTSTAMP:20260422T123945
CREATED:20231117T223338Z
LAST-MODIFIED:20231117T223338Z
UID:1132-1714559400-1714600800@mbc-speyer.de
SUMMARY:Anfahren
DESCRIPTION:
URL:https://mbc-speyer.de/event/anfahren-4/
END:VEVENT
BEGIN:VEVENT
DTSTART;TZID=Europe/Berlin:20240301T193000
DTEND;TZID=Europe/Berlin:20240301T223000
DTSTAMP:20260422T123945
CREATED:20231117T223303Z
LAST-MODIFIED:20231117T223303Z
UID:1129-1709321400-1709332200@mbc-speyer.de
SUMMARY:Mitgliederversammlung
DESCRIPTION:
URL:https://mbc-speyer.de/event/mitgliederversammlung-2/
END:VEVENT
BEGIN:VEVENT
DTSTART;VALUE=DATE:20231209
DTEND;VALUE=DATE:20231210
DTSTAMP:20260422T123945
CREATED:20230208T003715Z
LAST-MODIFIED:20230208T003748Z
UID:1072-1702080000-1702166399@mbc-speyer.de
SUMMARY:Nikolaus
DESCRIPTION:
URL:https://mbc-speyer.de/event/nikolaus-3/
END:VEVENT
BEGIN:VEVENT
DTSTART;TZID=Europe/Berlin:20231007T140000
DTEND;TZID=Europe/Berlin:20231007T170000
DTSTAMP:20260422T123945
CREATED:20230208T003646Z
LAST-MODIFIED:20230208T003813Z
UID:1069-1696687200-1696698000@mbc-speyer.de
SUMMARY:Abfahren
DESCRIPTION:
URL:https://mbc-speyer.de/event/abfahren-3/
END:VEVENT
BEGIN:VEVENT
DTSTART;VALUE=DATE:20230722
DTEND;VALUE=DATE:20230723
DTSTAMP:20260422T123945
CREATED:20230208T003613Z
LAST-MODIFIED:20230208T003803Z
UID:1067-1689984000-1690070399@mbc-speyer.de
SUMMARY:White Night
DESCRIPTION:
URL:https://mbc-speyer.de/event/white-night-3/
END:VEVENT
BEGIN:VEVENT
DTSTART;VALUE=DATE:20230617
DTEND;VALUE=DATE:20230618
DTSTAMP:20260422T123945
CREATED:20230208T003543Z
LAST-MODIFIED:20230208T003543Z
UID:1063-1686960000-1687046399@mbc-speyer.de
SUMMARY:Sommernachtsfest
DESCRIPTION:
URL:https://mbc-speyer.de/event/sommernachtsfest/
END:VEVENT
BEGIN:VEVENT
DTSTART;TZID=Europe/Berlin:20230501T103000
DTEND;TZID=Europe/Berlin:20230501T170000
DTSTAMP:20260422T123945
CREATED:20230208T003520Z
LAST-MODIFIED:20230208T003520Z
UID:1061-1682937000-1682960400@mbc-speyer.de
SUMMARY:Anfahren
DESCRIPTION:
URL:https://mbc-speyer.de/event/anfahren-3/
END:VEVENT
BEGIN:VEVENT
DTSTART;VALUE=DATE:20230310
DTEND;VALUE=DATE:20230311
DTSTAMP:20260422T123945
CREATED:20230208T003443Z
LAST-MODIFIED:20230208T003443Z
UID:1058-1678406400-1678492799@mbc-speyer.de
SUMMARY:HV
DESCRIPTION:
URL:https://mbc-speyer.de/event/hv/
END:VEVENT
BEGIN:VEVENT
DTSTART;TZID=Europe/Berlin:20221211T150000
DTEND;TZID=Europe/Berlin:20221211T200000
DTSTAMP:20260422T123945
CREATED:20220503T134943Z
LAST-MODIFIED:20220503T134943Z
UID:1003-1670770800-1670788800@mbc-speyer.de
SUMMARY:Nikolaus
DESCRIPTION:
URL:https://mbc-speyer.de/event/nikolaus-2/
END:VEVENT
BEGIN:VEVENT
DTSTART;TZID=Europe/Berlin:20221008T140000
DTEND;TZID=Europe/Berlin:20221008T200000
DTSTAMP:20260422T123945
CREATED:20220503T134909Z
LAST-MODIFIED:20220503T134909Z
UID:1000-1665237600-1665259200@mbc-speyer.de
SUMMARY:Abfahren
DESCRIPTION:
URL:https://mbc-speyer.de/event/abfahren-2/
END:VEVENT
BEGIN:VEVENT
DTSTART;VALUE=DATE:20220709
DTEND;VALUE=DATE:20220710
DTSTAMP:20260422T123945
CREATED:20220503T134826Z
LAST-MODIFIED:20220503T135136Z
UID:997-1657324800-1657411199@mbc-speyer.de
SUMMARY:White Night
DESCRIPTION:
URL:https://mbc-speyer.de/event/white-night-2/
END:VEVENT
END:VCALENDAR