BEGIN:VCALENDAR
VERSION:2.0
PRODID:-//MBC-Speyer - ECPv6.15.20//NONSGML v1.0//EN
CALSCALE:GREGORIAN
METHOD:PUBLISH
X-WR-CALNAME:MBC-Speyer
X-ORIGINAL-URL:https://mbc-speyer.de
X-WR-CALDESC:Veranstaltungen für MBC-Speyer
REFRESH-INTERVAL;VALUE=DURATION:PT1H
X-Robots-Tag:noindex
X-PUBLISHED-TTL:PT1H
BEGIN:VTIMEZONE
TZID:Europe/Berlin
BEGIN:DAYLIGHT
TZOFFSETFROM:+0100
TZOFFSETTO:+0200
TZNAME:CEST
DTSTART:20250330T010000
END:DAYLIGHT
BEGIN:STANDARD
TZOFFSETFROM:+0200
TZOFFSETTO:+0100
TZNAME:CET
DTSTART:20251026T010000
END:STANDARD
BEGIN:DAYLIGHT
TZOFFSETFROM:+0100
TZOFFSETTO:+0200
TZNAME:CEST
DTSTART:20260329T010000
END:DAYLIGHT
BEGIN:STANDARD
TZOFFSETFROM:+0200
TZOFFSETTO:+0100
TZNAME:CET
DTSTART:20261025T010000
END:STANDARD
BEGIN:DAYLIGHT
TZOFFSETFROM:+0100
TZOFFSETTO:+0200
TZNAME:CEST
DTSTART:20270328T010000
END:DAYLIGHT
BEGIN:STANDARD
TZOFFSETFROM:+0200
TZOFFSETTO:+0100
TZNAME:CET
DTSTART:20271031T010000
END:STANDARD
END:VTIMEZONE
BEGIN:VEVENT
DTSTART;VALUE=DATE:20260919
DTEND;VALUE=DATE:20260921
DTSTAMP:20260422T192317
CREATED:20251007T091505Z
LAST-MODIFIED:20251007T091505Z
UID:1941-1789776000-1789948799@mbc-speyer.de
SUMMARY:Clubausfahrt 2026
DESCRIPTION:Clubausfahrt am 19.09.2026 – Save the Date für Mitglieder & Gastlieger\nNach dem tollen Erfolg in diesem Jahr möchten wir auch 2026 wieder eine Clubausfahrt für unsere Mitglieder und Gastlieger organisieren. Wohin es geht? Das bleibt noch offen – Ideen haben wir viele\, und wir sondieren aktuell die schönsten Ziele. Fest steht: Am 19.09.2026 sind wir gemeinsam auf dem Wasser unterwegs und freuen uns auf zahlreiche Teilnahme. \nWir halten euch hier auf der Website und im Aushang im Clubhaus über Route\, Treffpunkt und Abfahrtszeit auf dem Laufenden. Wer schon jetzt weiß\, dass er oder sie dabei sein möchte\, darf uns gerne unverbindlich Bescheid geben – das erleichtert die Planung. Bis dahin: Termin vormerken\, Crew zusammentrommeln und Vorfreude genießen!
URL:https://mbc-speyer.de/event/clubausfahrt-2026/
END:VEVENT
END:VCALENDAR